BEGIN:VCALENDAR
VERSION:2.0
PRODID:-//DYNAM&#039;&amp;CO - ECPv6.15.17.1//NONSGML v1.0//EN
CALSCALE:GREGORIAN
METHOD:PUBLISH
X-WR-CALNAME:DYNAM&#039;&amp;CO
X-ORIGINAL-URL:https://dynameco.net
X-WR-CALDESC:Évènements pour DYNAM&#039;&amp;CO
REFRESH-INTERVAL;VALUE=DURATION:PT1H
X-Robots-Tag:noindex
X-PUBLISHED-TTL:PT1H
BEGIN:VTIMEZONE
TZID:Europe/Paris
BEGIN:DAYLIGHT
TZOFFSETFROM:+0100
TZOFFSETTO:+0200
TZNAME:CEST
DTSTART:20210328T010000
END:DAYLIGHT
BEGIN:STANDARD
TZOFFSETFROM:+0200
TZOFFSETTO:+0100
TZNAME:CET
DTSTART:20211031T010000
END:STANDARD
BEGIN:DAYLIGHT
TZOFFSETFROM:+0100
TZOFFSETTO:+0200
TZNAME:CEST
DTSTART:20220327T010000
END:DAYLIGHT
BEGIN:STANDARD
TZOFFSETFROM:+0200
TZOFFSETTO:+0100
TZNAME:CET
DTSTART:20221030T010000
END:STANDARD
BEGIN:DAYLIGHT
TZOFFSETFROM:+0100
TZOFFSETTO:+0200
TZNAME:CEST
DTSTART:20230326T010000
END:DAYLIGHT
BEGIN:STANDARD
TZOFFSETFROM:+0200
TZOFFSETTO:+0100
TZNAME:CET
DTSTART:20231029T010000
END:STANDARD
BEGIN:DAYLIGHT
TZOFFSETFROM:+0100
TZOFFSETTO:+0200
TZNAME:CEST
DTSTART:20240331T010000
END:DAYLIGHT
BEGIN:STANDARD
TZOFFSETFROM:+0200
TZOFFSETTO:+0100
TZNAME:CET
DTSTART:20241027T010000
END:STANDARD
BEGIN:DAYLIGHT
TZOFFSETFROM:+0100
TZOFFSETTO:+0200
TZNAME:CEST
DTSTART:20250330T010000
END:DAYLIGHT
BEGIN:STANDARD
TZOFFSETFROM:+0200
TZOFFSETTO:+0100
TZNAME:CET
DTSTART:20251026T010000
END:STANDARD
BEGIN:DAYLIGHT
TZOFFSETFROM:+0100
TZOFFSETTO:+0200
TZNAME:CEST
DTSTART:20260329T010000
END:DAYLIGHT
BEGIN:STANDARD
TZOFFSETFROM:+0200
TZOFFSETTO:+0100
TZNAME:CET
DTSTART:20261025T010000
END:STANDARD
BEGIN:DAYLIGHT
TZOFFSETFROM:+0100
TZOFFSETTO:+0200
TZNAME:CEST
DTSTART:20270328T010000
END:DAYLIGHT
BEGIN:STANDARD
TZOFFSETFROM:+0200
TZOFFSETTO:+0100
TZNAME:CET
DTSTART:20271031T010000
END:STANDARD
END:VTIMEZONE
BEGIN:VEVENT
DTSTART;VALUE=DATE:20220307
DTEND;VALUE=DATE:20260101
DTSTAMP:20260421T235936
CREATED:20220610T134501Z
LAST-MODIFIED:20250114T153801Z
UID:462-1646611200-1767225599@dynameco.net
SUMMARY:Accompagnement Tremplin Carrière
DESCRIPTION:Tremplin Carrière Romans : 2 sessions à venir \n\nDu 10 mars au 6 juin 2025. Réunions d’information collective les 11 et 18 février 9h.\nDu 7 avril au 4 juillet 2025. Réunions d’information collective les 10 et 17 mars 9h.\n\nTremplin Carrière Crest : du 19 novembre 2024 au 17 février 2025. Réunions d’information collective les 16 octobre et 7 novembre 9h. \nTremplin Carrière Saint Rambert d’Albon : 21 octobre 2024 au 17 janvier 2025. Réunion d’information collective le 1er octobre à 9h.
URL:https://dynameco.net/formation/accompagnement-tremplin-carriere/
END:VEVENT
BEGIN:VEVENT
DTSTART;VALUE=DATE:20230123
DTEND;VALUE=DATE:20260324
DTSTAMP:20260421T235936
CREATED:20230112T110202Z
LAST-MODIFIED:20251002T073024Z
UID:1440-1674432000-1774310399@dynameco.net
SUMMARY:Réussir la certification PIX (CPF)
DESCRIPTION:PIX : Savoir gérer et traiter des données et des informations tout en interagissant dans un environnement numérique sécurisé.\nProchaine session : nous contacter \nObjectifs\n\nMesurer et évaluer la maîtrise des compétences numériques essentielles pour l’insertion et l’activité professionnelle.\nMise en application et passage de la certification sur PIX\n\n\nPour qui?\n\nTout public ayant des bases informatiques\n\nFinancement\nCette formation est financée par votre CPF via le site : moncompteformation.gouv.fr \nConditions d’accès\nPas de modalité d’admission. \nModules\nModule 1 Construire un environnement numérique (5/domaine Environnement Numérique) \nInstaller et enrichir un environnement numérique (matériel\, atelier découverte et mise en situation) \nConnaitre les commandes et les fonctions usuelles d’un système d’exploitation \nComprendre l’organisation logique du gestionnaire de fichier en utilisant son arborescence et ses fonctionnalités \n \nModule 2 Gérer des données (1/domaine Information et données) \nStocker des données numériquesfichiers dossiers gestionnaire de fichiers affichage des contenusmanipulations et fonctions des fichiers et dossiers \n  \nModule 3 Mener une recherche et une veille d’information (1/domaine Information et données) \nRechercher et consulter une information sur internetutilisation optimale d’un moteur de rechercheVérifier la fiabilités et la provenance d’une information \n  \nModule 4 Interagir (domaine 2/Communication et collaboration) \nEnvoyer un message via un outil de messageriela composition d’une adresse mailenvoi réception lecture écriture d’un emailinteragir via une messagerie instantanée \n  \nModule 5 Développer des documents textuels (domaine 3/Création de contenus) \nCréation  et mise en page de documents textuelsUtilisation d’un clavierInsertion d’une imageUtilisation d’un logiciel de présentation et sa projection sur un écran \nModule 6 Sécuriser l’environnement numérique (domaine 4/Protection et sécurité) \nCyber malveillance d’un environnement numériqueSécuriser sa navigation internetReconnaitre des emails malveillantsSe protéger des virus informatiquesChoisir un mot de passe efficaceSécuriser un réseau sans fil \nModalités d’évaluation\nPositionnement initial des apprenants en entrée de formation : « Parcours diagnostic » PIX . \nLa certification se déroule en centre agrée\, elle dure 1h45\, durant les 2 dernières heures de formation. \nPour la présenter il faut avoir un compte PIX et avoir atteint en entrainement sur la plateforme PIX un niveau 1 sur au moins 5 compétences. \nLa formation vous permettra d’atteindre un niveau intermédiaire avec un score global d’au minimum 256 pix. \n. \nModalités pédagogiques\nAlternance d’outils de formations : \n\nSupports de cours\nExercices d’applications\nEntrainement sur la plateforme PIX\nAuto-formation avec les tutoriels du PIX.\n\nDurée de formation\n25 heures de formation dont 2 heures consacrées à la certification. \n  \nCertificat PIX\, code RS6894\, Groupement d’Intérêt Public PIX\, date d’enregistrement: 25/02/2022.
URL:https://dynameco.net/formation/reussir-la-certification-pix-cpf/
END:VEVENT
BEGIN:VEVENT
DTSTART;VALUE=DATE:20230610
DTEND;VALUE=DATE:20260101
DTSTAMP:20260421T235936
CREATED:20220610T102239Z
LAST-MODIFIED:20250220T074820Z
UID:364-1686355200-1767225599@dynameco.net
SUMMARY:Evaluation et formation CléA
DESCRIPTION:Le certificat CléA et le socle de connaissances et compétences professionnelles.CléA est une certification officielle et professionnelle qui permet de prouver aux personnes qu’elles possèdent une bonne base de connaissances et de compétences dans 7 domaines. DYNAM’&CO est centre agréé pour cette certification. \nVisiter le site CléA \nQuels sont les avantages du certificat CléA ?\n\nLe certificat CléA atteste que vous possédez une bonne base de connaissances et de compétences professionnelles dans 7 domaines.\nLorsque vous répondez à une offre d’emploi\, le certificat CléA peut faire la différence.\nDurant un entretien d’embauche\, le certificat CléA vous donne plus d’assurance.\nLe certificat CléA vous permet d’aller plus loin\, de continuer à apprendre\, de suivre d’autres formations spécialisées.\nLe certificat CléA est un document officiel. Il est reconnu par les recruteurs et les employeurs\, dans tous les secteurs\, dans toutes les régions.\n\nQuelles sont les conditions pour commencer la certification CléA ?\nIl faut être salarié ou demandeur d’emploi\, il n’y a aucune autre condition. \nEst-ce que le certificat CléA est gratuit ?\nPour les actifs – salariés ou demandeurs d’emploi – les actions nécessaires pour obtenir le certificat CléA sont prises en charge par tous les dispositifs de formation professionnelle : contrat de professionnalisation\, période de professionnalisation\, action de préparation opérationnelle à l’emploi (POE)\, Compte Personnel de Formation (CPF)… \nCombien de temps dure la certification ?\nSi vous maîtrisez les 7 domaines\, le certificat CléA vous sera remis en quelques semaines : ce délai dépend principalement du calendrier des réunion du jury\, dans votre région ou dans votre secteur d’activité. \nSi vous devez suivre des formations complémentaires\, cela peut être plus long. Vous pouvez dans tous les cas avancer à votre rythme\, mais le délai maximum est de 5 ans entre la première évaluation et l’obtention du certificat. \nQuels sont les 7 domaines qu’il faut maîtriser ?\n\ns’exprimer à l’oral et à l’écrit\ncalculer\, raisonner\nutiliser un ordinateur\nrespecter les règles et travailler en équipe\ntravailler seul et prendre des initiatives\navoir l’envie d’apprendre\nmaîtriser les règles essentielles : hygiène\, sécurité\, environnement\n\nComment se passe l’évaluation ?\nUn rendez-vous vous est proposé dans les locaux de DYNAM’&CO. Vous êtes accueilli par un conseiller qui vous propose plusieurs entretiens\, puis des séries de questions et de tests.L’évaluation dure 3 semaines environ (6h à 10h au total). \nÉvaluation Socle de connaissances et de compétences professionnelles (CléA)\nNotre organisme est habilité comme évaluateur de la certification CléA. \nSi la personne lors de l’évaluation CléA a validé les 7 domaines du socle\, son dossier passe devant un jury de validation pour qu’elle puisse obtenir la certification. Sinon\, elle est orientée vers un dispositif de formation adapté. \nLa personne pourra ensuite se représenter à une évaluation finale pour valider les domaines non obtenus lors de l’évaluation initiale. L’évaluation finale pourra se dérouler dans n’importe quel centre habilité CléA en France. \nTéléchargez la documentation : Fiche CléA pour les salariés \nTéléchargez la documentation : Fiche CléA pour les demandeurs d’emploi \nFormation Socle de connaissances et de compétences professionnelles (CléA)\nA l’issue de l’évaluation CléA\, la personne reçoit un livret d’évaluation et des préconisations de formation. C’est sur ce document que s’appuie le formateur pour construire le parcours de la personne. \nLa formation s’appuie sur le référentiel du socle et vise à contextualiser les compétences demandées en fonction du champ d’activité de la personne\, par un dispositif de mise en situation didactisée. \n5 certifications obtenues sur 6 passages en 2023. \nEn 2022\, 100% de réussite sur les 9 certifications passées. \nCertificat CléA Socle\, code RS 7003 enregistré par Certif’Pro.
URL:https://dynameco.net/formation/evaluation-et-formation-clea/
ATTACH;FMTTYPE=image/jpeg:https://dynameco.net/wp-content/uploads/2022/06/certificat-clea.jpg
END:VEVENT
BEGIN:VEVENT
DTSTART;VALUE=DATE:20230610
DTEND;VALUE=DATE:20260101
DTSTAMP:20260421T235936
CREATED:20250603T134950Z
LAST-MODIFIED:20251205T114836Z
UID:2706-1686355200-1767225599@dynameco.net
SUMMARY:Détours Créatifs vers l'emploi
DESCRIPTION:Nous proposons un parcours d’accompagnement à destination des publics les plus éloignés de l’emploi non-inscrits à France Travail. Après une phase de repérage et de remobilisation\, nous accompagnons les personnes dans leur projet professionnel. \nA Romans sur Isère et St Rambert d’Albon. \nTéléchargez notre flyer \nObjectifs:\nAccompagner les publics concernés en articulation avec l’offre du réseau pour l’Emploi et dans une logique de complémentarité avec ce qui existe déjà sur les territoires. \n\n\n\nValoriser vos atouts\nDéfinir un projet professionnel et déterminer un plan d’action vers le succès\nRetrouver le chemin de l’emploi\n\n\n\nPublic:\n\nPersonnes non inscrites à France Travail\nPersonnes inscrites et sans contact avec un conseiller depuis au moins 5 mois.\n\nConditions d’accès:\nEntrée tout au long de l’année\, nous contacter.Lors d’un premier rendez-vous\, nous vérifierons l’éligibilité au dispositif. \nProgramme:\nFlexible : s’adapte à vos contraintes personnelles \n\nUn projet collectif environnemental\, culturel\, sportif\, caritatif\, etc.\, qui constitue le fil rouge du parcours.\nDes ateliers spécifiques\, thématiques en fonction des besoins et des centre d’intérêts.\nDes temps individuels pour identifier\, ancrer\, valoriser et valider les compétences socles acquises (référentiel RECTEC et open-badges).\nUne construction progressive d’un projet de qualification professionnelle et de retour à l’emploi.\n\nModalités d’évaluation:\nÉvaluation des compétences transverses avec la carte RECTEC (entrée\, mi-parcours\, sortie). \nElle se passe dans notre centre de formation avec la personne qui vous accompagne sur le dispositif. Nous évaluons vos compétences à partir de situations concrètes que vous relatez. \nBilan individuel délivré en fin de parcours. \nModalités pédagogiques:\nTravaux en groupe\, sous-groupe et individualisés. \nAlternance d’outils : \n\nSupports de présentation\nÉchanges de pratiques\nMises en situations\nSupports interactifs d’auto-formation.\n\nFinancement:\nCe parcours est financé par la DDETS. Si aucun dispositif de droit commun peut vous indemniser\, une indemnité de parcours sera demandée par notre biais. \nQu’est-ce que le référentiel RECTEC?\nTout savoir sur l’outil RECTEC: \nTéléchargez la documentation : Brochure RECTEC \nVisiter le site Détours Créatifs \nPour plus d’informations\, venez nous rencontrer tous les jeudis à 14h\, lors de nos Café Bla Bla dans nos locaux de Romans. \n 
URL:https://dynameco.net/formation/detours-creatifs-vers-lemploi/
ATTACH;FMTTYPE=image/jpeg:https://dynameco.net/wp-content/uploads/2025/06/pexels-walls-io-440716388-17713866-scaled.jpg
END:VEVENT
END:VCALENDAR